BEGIN:VCALENDAR
VERSION:2.0
CREATED:20260420T195743Z
PRODID:-//Microchip Technology Incorporated/Equisolve Calendar v1.0//EN
METHOD:PUBLISH
BEGIN:VEVENT
UID:3d9e11983d6960aa5db47f2e6e28916b
DTSTAMP:20260421T110134Z
DTSTART:20260507T210000Z
DTEND:20260507T220000Z
SUMMARY:Microchip’s Q4 and FY26 Financial Results Conference Call
DESCRIPTION:Microchip’s Q4 and FY26 Financial Results Conference Call\nDate: May 7\, 2026 5:00 pm EDT\nWebcast: https://edge.media-server.com/mmc/p/ivs2kx47
END:VEVENT
END:VCALENDAR
